BEGIN:VCALENDAR
VERSION:2.0
PRODID:-//Istituto Maria Ausiliatrice Reggio Calabria - ECPv6.15.20//NONSGML v1.0//EN
CALSCALE:GREGORIAN
METHOD:PUBLISH
X-ORIGINAL-URL:https://www.mariausiliatricereggio.it
X-WR-CALDESC:Eventi per Istituto Maria Ausiliatrice Reggio Calabria
REFRESH-INTERVAL;VALUE=DURATION:PT1H
X-Robots-Tag:noindex
X-PUBLISHED-TTL:PT1H
BEGIN:VTIMEZONE
TZID:Europe/Rome
BEGIN:DAYLIGHT
TZOFFSETFROM:+0100
TZOFFSETTO:+0200
TZNAME:CEST
DTSTART:20250330T010000
END:DAYLIGHT
BEGIN:STANDARD
TZOFFSETFROM:+0200
TZOFFSETTO:+0100
TZNAME:CET
DTSTART:20251026T010000
END:STANDARD
BEGIN:DAYLIGHT
TZOFFSETFROM:+0100
TZOFFSETTO:+0200
TZNAME:CEST
DTSTART:20260329T010000
END:DAYLIGHT
BEGIN:STANDARD
TZOFFSETFROM:+0200
TZOFFSETTO:+0100
TZNAME:CET
DTSTART:20261025T010000
END:STANDARD
BEGIN:DAYLIGHT
TZOFFSETFROM:+0100
TZOFFSETTO:+0200
TZNAME:CEST
DTSTART:20270328T010000
END:DAYLIGHT
BEGIN:STANDARD
TZOFFSETFROM:+0200
TZOFFSETTO:+0100
TZNAME:CET
DTSTART:20271031T010000
END:STANDARD
END:VTIMEZONE
BEGIN:VEVENT
DTSTART;VALUE=DATE:20260223
DTEND;VALUE=DATE:20260402
DTSTAMP:20260421T144409
CREATED:20260220T110444Z
LAST-MODIFIED:20260220T110444Z
UID:1670-1771804800-1775087999@www.mariausiliatricereggio.it
SUMMARY:Caffè & Ricarica Spirituale
DESCRIPTION:Caffè & Ricarica \nIn Quaresima\, fermiamoci. Anche solo 5 minuti… ma davvero.\nUn sorso di silenzio\, una parola che scalda\, un respiro profondo.\n8.25 – 8.30\nCappella\n+Riempi il cuore + palpita la vita\nDa lunedì 23 febbraio ti aspettiamo
URL:https://www.mariausiliatricereggio.it/evento/caffe-ricarica-spirituale/
END:VEVENT
END:VCALENDAR