BEGIN:VCALENDAR
VERSION:2.0
PRODID:-//Istituto Maria Ausiliatrice Reggio Calabria - ECPv6.15.20//NONSGML v1.0//EN
CALSCALE:GREGORIAN
METHOD:PUBLISH
X-WR-CALNAME:Istituto Maria Ausiliatrice Reggio Calabria
X-ORIGINAL-URL:https://www.mariausiliatricereggio.it
X-WR-CALDESC:Eventi per Istituto Maria Ausiliatrice Reggio Calabria
REFRESH-INTERVAL;VALUE=DURATION:PT1H
X-Robots-Tag:noindex
X-PUBLISHED-TTL:PT1H
BEGIN:VTIMEZONE
TZID:Europe/Rome
BEGIN:DAYLIGHT
TZOFFSETFROM:+0100
TZOFFSETTO:+0200
TZNAME:CEST
DTSTART:20250330T010000
END:DAYLIGHT
BEGIN:STANDARD
TZOFFSETFROM:+0200
TZOFFSETTO:+0100
TZNAME:CET
DTSTART:20251026T010000
END:STANDARD
BEGIN:DAYLIGHT
TZOFFSETFROM:+0100
TZOFFSETTO:+0200
TZNAME:CEST
DTSTART:20260329T010000
END:DAYLIGHT
BEGIN:STANDARD
TZOFFSETFROM:+0200
TZOFFSETTO:+0100
TZNAME:CET
DTSTART:20261025T010000
END:STANDARD
BEGIN:DAYLIGHT
TZOFFSETFROM:+0100
TZOFFSETTO:+0200
TZNAME:CEST
DTSTART:20270328T010000
END:DAYLIGHT
BEGIN:STANDARD
TZOFFSETFROM:+0200
TZOFFSETTO:+0100
TZNAME:CET
DTSTART:20271031T010000
END:STANDARD
END:VTIMEZONE
BEGIN:VEVENT
DTSTART;TZID=Europe/Rome:20260124T090000
DTEND;TZID=Europe/Rome:20260124T120000
DTSTAMP:20260419T182124
CREATED:20240110T105247Z
LAST-MODIFIED:20260113T093440Z
UID:1232-1769245200-1769256000@www.mariausiliatricereggio.it
SUMMARY:Open Day 2026
DESCRIPTION:Visita la nostra Scuola!
URL:https://www.mariausiliatricereggio.it/evento/https-www-mariausiliatricereggio-it-wp-content-uploads-2025-11-openday-jpg/
CATEGORIES:Scuola
END:VEVENT
BEGIN:VEVENT
DTSTART;TZID=Europe/Rome:20260112T080000
DTEND;TZID=Europe/Rome:20260118T200000
DTSTAMP:20260419T182124
CREATED:20240304T122349Z
LAST-MODIFIED:20260113T092249Z
UID:1352-1768204800-1768766400@www.mariausiliatricereggio.it
SUMMARY:Sales Got Talent 2026
DESCRIPTION:  \n \nUn evento unico sta arrivando! ✨\nIn occasione della Festa di Laura Vicuna\, nasce il Sales Got Talent\, un’esperienza imperdibile per metterti in gioco\, crescere e far brillare il tuo talento 💡\n📅 Iscrizioni aperte fino al 18 gennaio!\n👉 Clicca nel link per scoprire tutti i dettagli e accedere al modulo di iscrizione! \nhttps://forms.gle/w9jPj25h8BEUXapG6 \n🚀 Non perdere questa opportunità: il tuo talento è un dono\, condividilo con Gioia!! \n#SalesGoTalent #EventoUnico#FestaDiLauraVicuna #Talento #CrescitaProfessionale #Formazione #Sales #Opportunità #IscrivitiOra #NuoveSfide
URL:https://www.mariausiliatricereggio.it/evento/https-forms-gle-w9jpj25h8beuxapg6https-www-mariausiliatricereggio-it-wp-content-uploads-2024-03-post-jpeg/
LOCATION:ISTITUTO MARIA AUSILIATRICE\, Via Maria Ausiliatrice\, 3\, Reggio Calabria\, Italia
CATEGORIES:Scuola
END:VEVENT
END:VCALENDAR